BEGIN:VCALENDAR
VERSION:2.0
PRODID:-//Hollyhock Acres - ECPv6.15.20//NONSGML v1.0//EN
CALSCALE:GREGORIAN
METHOD:PUBLISH
X-WR-CALNAME:Hollyhock Acres
X-ORIGINAL-URL:https://hollyhockacres.com
X-WR-CALDESC:Events for Hollyhock Acres
REFRESH-INTERVAL;VALUE=DURATION:PT1H
X-Robots-Tag:noindex
X-PUBLISHED-TTL:PT1H
BEGIN:VTIMEZONE
TZID:America/Los_Angeles
BEGIN:DAYLIGHT
TZOFFSETFROM:-0800
TZOFFSETTO:-0700
TZNAME:PDT
DTSTART:20220313T100000
END:DAYLIGHT
BEGIN:STANDARD
TZOFFSETFROM:-0700
TZOFFSETTO:-0800
TZNAME:PST
DTSTART:20221106T090000
END:STANDARD
BEGIN:DAYLIGHT
TZOFFSETFROM:-0800
TZOFFSETTO:-0700
TZNAME:PDT
DTSTART:20230312T100000
END:DAYLIGHT
BEGIN:STANDARD
TZOFFSETFROM:-0700
TZOFFSETTO:-0800
TZNAME:PST
DTSTART:20231105T090000
END:STANDARD
BEGIN:DAYLIGHT
TZOFFSETFROM:-0800
TZOFFSETTO:-0700
TZNAME:PDT
DTSTART:20240310T100000
END:DAYLIGHT
BEGIN:STANDARD
TZOFFSETFROM:-0700
TZOFFSETTO:-0800
TZNAME:PST
DTSTART:20241103T090000
END:STANDARD
END:VTIMEZONE
BEGIN:VEVENT
DTSTART;VALUE=DATE:20230603
DTEND;VALUE=DATE:20230604
DTSTAMP:20260419T094657
CREATED:20230504T222847Z
LAST-MODIFIED:20230512T163510Z
UID:990-1685750400-1685836799@hollyhockacres.com
SUMMARY:DIY Bouquet Event (DIY Event)
DESCRIPTION:Design and create you own bouquet from a wide variety of pre-harvested blooms and textural fillers. Bring your own vase\, or purchase one on-site. Want to book a private party? Just ask! \n			\n				\n				\n				\n				\n				This event is $18 per person. \nTimes Available:1:00 – 3:00 PM3:00 – 5:00 PM \n			\n				Register for Event\n			\n				\n				\n				\n				\n				All available times are subject to change.If times change after you have registered\, you will receive a notification alerting you to the change. \nPark in the lots near the residence and then walk…events will be either in the Drs. Office or the large hoop house. A restroom is available as needed in the residence – yellow door\, north end of the house. Also note there are free-range cats and dogs – all friendly!
URL:https://hollyhockacres.com/event/diy-bouquet-june-3-2023/
LOCATION:Hollyhock Acres\, 33646 Seven Mile Lane SE\, Albany\, OR\, 97322\, United States
CATEGORIES:DIY Events
ATTACH;FMTTYPE=image/jpeg:https://hollyhockacres.com/wp-content/uploads/2023/05/DIY-bouquet-event_feature.jpg
ORGANIZER;CN="Brenda Roth":MAILTO:hollyhockacres21@gmail.com
END:VEVENT
BEGIN:VEVENT
DTSTART;VALUE=DATE:20230610
DTEND;VALUE=DATE:20230611
DTSTAMP:20260419T094657
CREATED:20230512T000520Z
LAST-MODIFIED:20230512T163527Z
UID:1251-1686355200-1686441599@hollyhockacres.com
SUMMARY:DIY Bouquet Event (DIY Event)
DESCRIPTION:Design and create you own bouquet from a wide variety of pre-harvested blooms and textural fillers. Bring your own vase\, or purchase one on-site. Want to book a private party? Just ask! \n			\n				\n				\n				\n				\n				This event is $18 per person. \nTimes Available:1:00 – 3:00 PM3:00 – 5:00 PM \n			\n				Register for Event\n			\n				\n				\n				\n				\n				All available times are subject to change.If times change after you have registered\, you will receive a notification alerting you to the change. \nPark in the lots near the residence and then walk…events will be either in the Drs. Office or the large hoop house. A restroom is available as needed in the residence – yellow door\, north end of the house. Also note there are free-range cats and dogs – all friendly!
URL:https://hollyhockacres.com/event/diy-bouquet-june-10-2023/
LOCATION:Hollyhock Acres\, 33646 Seven Mile Lane SE\, Albany\, OR\, 97322\, United States
CATEGORIES:DIY Events
ATTACH;FMTTYPE=image/jpeg:https://hollyhockacres.com/wp-content/uploads/2023/05/DIY-bouquet-event_feature.jpg
ORGANIZER;CN="Brenda Roth":MAILTO:hollyhockacres21@gmail.com
END:VEVENT
BEGIN:VEVENT
DTSTART;VALUE=DATE:20230617
DTEND;VALUE=DATE:20230618
DTSTAMP:20260419T094657
CREATED:20230512T000601Z
LAST-MODIFIED:20230512T163530Z
UID:1257-1686960000-1687046399@hollyhockacres.com
SUMMARY:DIY Bouquet Event (DIY Event)
DESCRIPTION:Design and create you own bouquet from a wide variety of pre-harvested blooms and textural fillers. Bring your own vase\, or purchase one on-site. Want to book a private party? Just ask! \n			\n				\n				\n				\n				\n				This event is $18 per person. \nTimes Available:1:00 – 3:00 PM3:00 – 5:00 PM \n			\n				Register for Event\n			\n				\n				\n				\n				\n				All available times are subject to change.If times change after you have registered\, you will receive a notification alerting you to the change. \nPark in the lots near the residence and then walk…events will be either in the Drs. Office or the large hoop house. A restroom is available as needed in the residence – yellow door\, north end of the house. Also note there are free-range cats and dogs – all friendly!
URL:https://hollyhockacres.com/event/diy-bouquet-june-17-2023/
LOCATION:Hollyhock Acres\, 33646 Seven Mile Lane SE\, Albany\, OR\, 97322\, United States
CATEGORIES:DIY Events
ATTACH;FMTTYPE=image/jpeg:https://hollyhockacres.com/wp-content/uploads/2023/05/DIY-bouquet-event_feature.jpg
ORGANIZER;CN="Brenda Roth":MAILTO:hollyhockacres21@gmail.com
END:VEVENT
BEGIN:VEVENT
DTSTART;VALUE=DATE:20230624
DTEND;VALUE=DATE:20230625
DTSTAMP:20260419T094657
CREATED:20230512T002307Z
LAST-MODIFIED:20230512T163536Z
UID:1259-1687564800-1687651199@hollyhockacres.com
SUMMARY:DIY Bouquet Event (DIY Event)
DESCRIPTION:Design and create you own bouquet from a wide variety of pre-harvested blooms and textural fillers. Bring your own vase\, or purchase one on-site. Want to book a private party? Just ask! \n			\n				\n				\n				\n				\n				This event is $18 per person. \nTimes Available:1:00 – 3:00 PM3:00 – 5:00 PM \n			\n				Register for Event\n			\n				\n				\n				\n				\n				All available times are subject to change.If times change after you have registered\, you will receive a notification alerting you to the change. \nPark in the lots near the residence and then walk…events will be either in the Drs. Office or the large hoop house. A restroom is available as needed in the residence – yellow door\, north end of the house. Also note there are free-range cats and dogs – all friendly!
URL:https://hollyhockacres.com/event/diy-bouquet-june-24-2023/
LOCATION:Hollyhock Acres\, 33646 Seven Mile Lane SE\, Albany\, OR\, 97322\, United States
CATEGORIES:DIY Events
ATTACH;FMTTYPE=image/jpeg:https://hollyhockacres.com/wp-content/uploads/2023/05/DIY-bouquet-event_feature.jpg
ORGANIZER;CN="Brenda Roth":MAILTO:hollyhockacres21@gmail.com
END:VEVENT
END:VCALENDAR