BEGIN:VCALENDAR
VERSION:2.0
PRODID:-//Hollyhock Acres - ECPv6.15.20//NONSGML v1.0//EN
CALSCALE:GREGORIAN
METHOD:PUBLISH
X-ORIGINAL-URL:https://hollyhockacres.com
X-WR-CALDESC:Events for Hollyhock Acres
REFRESH-INTERVAL;VALUE=DURATION:PT1H
X-Robots-Tag:noindex
X-PUBLISHED-TTL:PT1H
BEGIN:VTIMEZONE
TZID:America/Los_Angeles
BEGIN:DAYLIGHT
TZOFFSETFROM:-0800
TZOFFSETTO:-0700
TZNAME:PDT
DTSTART:20220313T100000
END:DAYLIGHT
BEGIN:STANDARD
TZOFFSETFROM:-0700
TZOFFSETTO:-0800
TZNAME:PST
DTSTART:20221106T090000
END:STANDARD
BEGIN:DAYLIGHT
TZOFFSETFROM:-0800
TZOFFSETTO:-0700
TZNAME:PDT
DTSTART:20230312T100000
END:DAYLIGHT
BEGIN:STANDARD
TZOFFSETFROM:-0700
TZOFFSETTO:-0800
TZNAME:PST
DTSTART:20231105T090000
END:STANDARD
BEGIN:DAYLIGHT
TZOFFSETFROM:-0800
TZOFFSETTO:-0700
TZNAME:PDT
DTSTART:20240310T100000
END:DAYLIGHT
BEGIN:STANDARD
TZOFFSETFROM:-0700
TZOFFSETTO:-0800
TZNAME:PST
DTSTART:20241103T090000
END:STANDARD
END:VTIMEZONE
BEGIN:VEVENT
DTSTART;VALUE=DATE:20230902
DTEND;VALUE=DATE:20230903
DTSTAMP:20260419T051303
CREATED:20230711T221942Z
LAST-MODIFIED:20230711T225217Z
UID:2617-1693612800-1693699199@hollyhockacres.com
SUMMARY:DIY Bouquet Event (DIY Event)
DESCRIPTION:Design and create you own bouquet from a wide variety of pre-harvested blooms and textural fillers. Bring your own vase\, or purchase one on-site. Want to book a private party? Just ask! \n			\n				\n				\n				\n				\n				This event is $18 per person. \nTimes Available:1:00 – 3:00 PM3:00 – 5:00 PM \n			\n				Register for Event\n			\n				\n				\n				\n				\n				All available times are subject to change.If times change after you have registered\, you will receive a notification alerting you to the change. \nPark in the lots near the residence and then walk...events will be either in the Drs. Office or the large hoop house. A restroom is available as needed in the residence - yellow door\, north end of the house. Also note there are free-range cats and dogs - all friendly! \nHollyhock Acres is located in a farming community; participants should dress accordingly and prepare to be exposed to dust\, water\, noise\, and the close proximity of farming machinery.
URL:https://hollyhockacres.com/event/diy-bouquet-sept-2-2023/
LOCATION:Hollyhock Acres\, 33646 Seven Mile Lane SE\, Albany\, OR\, 97322\, United States
CATEGORIES:DIY Events
ATTACH;FMTTYPE=image/jpeg:https://hollyhockacres.com/wp-content/uploads/2023/05/DIY-bouquet-event_feature.jpg
ORGANIZER;CN="Brenda Roth":MAILTO:hollyhockacres21@gmail.com
END:VEVENT
BEGIN:VEVENT
DTSTART;VALUE=DATE:20230909
DTEND;VALUE=DATE:20230910
DTSTAMP:20260419T051303
CREATED:20230711T224324Z
LAST-MODIFIED:20230812T130849Z
UID:2619-1694217600-1694303999@hollyhockacres.com
SUMMARY:Scio Bridges\, Bikes\, and Brews Event
DESCRIPTION:Find Hollyhock Acres and Worlds Apart Flower Cart@ the Scio Bridges\, Bikes and Brews Event\nEvent information:Please join us at the annual Bridges\, Bikes & Brews Festival in Scio\, Oregon on Saturday\, September 9\, 2023. There will be a motorcycle poker run\, cornhole tournament\, live music\, food\, vendors\, local breweries\, and more. Bridges\, Bikes and Brews is sponsored by the Scio Event Center Organization to raise funds for a new Fairgrounds and Event Center to be built in or near Scio\, Oregon.
URL:https://hollyhockacres.com/event/scio-bridges-bikes-and-brews-event/
LOCATION:Scio Fairgrounds and Event Center\, 38999 NE First St.\, Scio\, Oregon\, 97374\, United States
CATEGORIES:DIY Events
ATTACH;FMTTYPE=image/jpeg:https://hollyhockacres.com/wp-content/uploads/2023/07/Toris-flower-cart-event.jpg
ORGANIZER;CN="Brenda Roth":MAILTO:hollyhockacres21@gmail.com
END:VEVENT
BEGIN:VEVENT
DTSTART;TZID=America/Los_Angeles:20230930T100000
DTEND;TZID=America/Los_Angeles:20230930T120000
DTSTAMP:20260419T051303
CREATED:20230711T225359Z
LAST-MODIFIED:20230816T180603Z
UID:2656-1696068000-1696075200@hollyhockacres.com
SUMMARY:DIY Bouquet Event (DIY Event)
DESCRIPTION:Design and create you own bouquet from a wide variety of pre-harvested blooms and textural fillers. Bring your own vase\, or purchase one on-site. Want to book a private party? Just ask! \n			\n				\n				\n				\n				\n				This event is $18 per person. \nTimes Available:10:00 AM – 12:00 PM \n			\n				Register for Event\n			\n				\n				\n				\n				\n				All available times are subject to change.If times change after you have registered\, you will receive a notification alerting you to the change. \nPark in the lots near the residence and then walk...events will be either in the Drs. Office or the large hoop house. A restroom is available as needed in the residence - yellow door\, north end of the house. Also note there are free-range cats and dogs - all friendly! \nHollyhock Acres is located in a farming community; participants should dress accordingly and prepare to be exposed to dust\, water\, noise\, and the close proximity of farming machinery.
URL:https://hollyhockacres.com/event/diy-bouquet-sept-30-2023/
LOCATION:Hollyhock Acres\, 33646 Seven Mile Lane SE\, Albany\, OR\, 97322\, United States
CATEGORIES:DIY Events
ATTACH;FMTTYPE=image/jpeg:https://hollyhockacres.com/wp-content/uploads/2023/05/DIY-bouquet-event_feature.jpg
ORGANIZER;CN="Brenda Roth":MAILTO:hollyhockacres21@gmail.com
END:VEVENT
BEGIN:VEVENT
DTSTART;TZID=America/Los_Angeles:20230930T130000
DTEND;TZID=America/Los_Angeles:20230930T170000
DTSTAMP:20260419T051303
CREATED:20230812T125017Z
LAST-MODIFIED:20230919T231140Z
UID:3307-1696078800-1696093200@hollyhockacres.com
SUMMARY:Screen Printing (DIY Event)
DESCRIPTION:Learn how to print a single-color design on fabric or paper\, using a screen stencil. Participants should bring a tote\, shirt\, or paper; wear clothing that can get inky; and upload a graphic at the time of registration. This event is taught by Hollyhock friend\, Brenna Brutscher. \nRegistration deadline of September 23rd.\nThis event is limited to 6 persons. \n			\n				\n				\n				\n				\n				This event is $45 per person. \nEvent Time:Saturday\, September 30th @ 1:00 – 5:00 PM \n			\n				Register for Event\n			\n				\n				\n				\n				\n				All available times are subject to change.If times change after you have registered\, you will receive a notification alerting you to the change. \nPark in the lots near the residence and then walk...events will be either in the Drs. Office or the large hoop house. A restroom is available as needed in the residence - yellow door\, north end of the house. Also note there are free-range cats and dogs - all friendly! \nHollyhock Acres is located in a farming community; participants should dress accordingly and prepare to be exposed to dust\, water\, noise\, and the close proximity of farming machinery.
URL:https://hollyhockacres.com/event/screen-printing-diy-event-09302023/
LOCATION:Hollyhock Acres\, 33646 Seven Mile Lane SE\, Albany\, OR\, 97322\, United States
CATEGORIES:DIY Events
ATTACH;FMTTYPE=image/jpeg:https://hollyhockacres.com/wp-content/uploads/2023/06/Screen-print-graphic_feature.jpg
ORGANIZER;CN="Brenda Roth":MAILTO:hollyhockacres21@gmail.com
END:VEVENT
END:VCALENDAR